BEGIN:VCALENDAR
VERSION:2.0
PRODID:-//The Copper Lantern - ECPv6.15.20//NONSGML v1.0//EN
CALSCALE:GREGORIAN
METHOD:PUBLISH
X-WR-CALNAME:The Copper Lantern
X-ORIGINAL-URL:https://thecopperlantern.ca
X-WR-CALDESC:Events for The Copper Lantern
REFRESH-INTERVAL;VALUE=DURATION:PT1H
X-Robots-Tag:noindex
X-PUBLISHED-TTL:PT1H
BEGIN:VTIMEZONE
TZID:America/Regina
BEGIN:STANDARD
TZOFFSETFROM:-0600
TZOFFSETTO:-0600
TZNAME:CST
DTSTART:20250101T000000
END:STANDARD
END:VTIMEZONE
BEGIN:VEVENT
DTSTART;TZID=America/Regina:20260303T170000
DTEND;TZID=America/Regina:20260303T190000
DTSTAMP:20260421T095636
CREATED:20260213T224202Z
LAST-MODIFIED:20260224T220741Z
UID:972-1772557200-1772564400@thecopperlantern.ca
SUMMARY:Monthly Open House: March
DESCRIPTION:Join us for our first open house at The Copper Lantern! \nThis is your chance to explore the venue space in person\, and get a feel for what we have to offer. \nDrop in anytime during the scheduled hours — all are welcome! \n 
URL:https://thecopperlantern.ca/event/open-house-march/
LOCATION:The Copper Lantern\, 1102 17th Street West\, Saskatoon\, Saskatchewan\, S7M 3Y3\, Canada
CATEGORIES:Open House
ATTACH;FMTTYPE=image/webp:https://thecopperlantern.ca/wp-content/uploads/2026/02/TCL-Ticket-Images-2.webp
END:VEVENT
END:VCALENDAR