BEGIN:VCALENDAR
VERSION:2.0
PRODID:-//The Copper Lantern - ECPv6.15.20//NONSGML v1.0//EN
CALSCALE:GREGORIAN
METHOD:PUBLISH
X-WR-CALNAME:The Copper Lantern
X-ORIGINAL-URL:https://thecopperlantern.ca
X-WR-CALDESC:Events for The Copper Lantern
REFRESH-INTERVAL;VALUE=DURATION:PT1H
X-Robots-Tag:noindex
X-PUBLISHED-TTL:PT1H
BEGIN:VTIMEZONE
TZID:America/Regina
BEGIN:STANDARD
TZOFFSETFROM:-0600
TZOFFSETTO:-0600
TZNAME:CST
DTSTART:20250101T000000
END:STANDARD
END:VTIMEZONE
BEGIN:VEVENT
DTSTART;TZID=America/Regina:20260328T180000
DTEND;TZID=America/Regina:20260328T210000
DTSTAMP:20260421T064522
CREATED:20260216T185617Z
LAST-MODIFIED:20260328T232905Z
UID:1008-1774720800-1774731600@thecopperlantern.ca
SUMMARY:Paris of the Prairies
DESCRIPTION:We are delighted to welcome the members of Paris of the Prairies to The Copper Lantern for an evening designed to be enjoyed — from the food and wine to the company around the table. \nAs part of your ticket\, you’ll be invited to select your preferred protein in advance\, allowing our culinary team to craft a seamless and elevated dining experience. \nEach guest will also be welcomed with a complimentary glass of wine\, chosen to perfectly complement the evening.
URL:https://thecopperlantern.ca/event/paris-of-the-prairies/
LOCATION:The Copper Lantern\, 1102 17th Street West\, Saskatoon\, Saskatchewan\, S7M 3Y3\, Canada
CATEGORIES:Private Events
ATTACH;FMTTYPE=image/webp:https://thecopperlantern.ca/wp-content/uploads/2026/02/TCL-Ticket-Images-3.webp
END:VEVENT
END:VCALENDAR